BEGIN:VCALENDAR
VERSION:2.0
PRODID:< http://www.open2c.de/ >
METHOD:PUBLISH
X-PUBLISHED-TTL:PT12H
BEGIN:VEVENT
CREATED:20251030T133611Z
LAST-MODIFIED:20251030T133812Z
GEO:0.000000,0.000000
ORGANIZER;CN="Neues Forum":MAILTO:Anton Holzner
DTSTAMP:20260422T001701Z
DTSTART:20251124T180000Z
DTEND:20251124T210000Z
CATEGORIES:Verschiedenes
SUMMARY;CHARSET=UTF-8:Nominierungsveranstaltung Neues Forum
DESCRIPTION;CHARSET=UTF-8:Organisator   Neues Forum
 Kontakt   Anton Holzner
LOCATION;CHARSET=UTF-8:Bürgerstüberl
UID:fe57b0450bb202a3b279640f80a2733e@a265c234b019f8e4ef003bb57e41bb9d
END:VEVENT
END:VCALENDAR