BEGIN:VCALENDAR
VERSION:2.0
PRODID:< http://www.open2c.de/ >
METHOD:PUBLISH
X-PUBLISHED-TTL:PT12H
BEGIN:VEVENT
CREATED:20250916T072956Z
LAST-MODIFIED:20250916T073144Z
GEO:0.000000,0.000000
ORGANIZER;CN="Bündnis 90/Die Grünen Ortsverband Pliening":MAILTO:Gabriele Heigl
DTSTAMP:20260419T205254Z
DTSTART:20251021T150000Z
DTEND:20251021T160000Z
CATEGORIES:Verschiedenes
SUMMARY;CHARSET=UTF-8:Grünes Telefon
DESCRIPTION;CHARSET=UTF-8:Organisator   Bündnis 90/Die Grünen Ortsverband Pliening
 Kontakt   Gabriele Heigl
LOCATION;CHARSET=UTF-8:
UID:5ff8221f561198622fd85e301721a0f8@a265c234b019f8e4ef003bb57e41bb9d
END:VEVENT
END:VCALENDAR