BEGIN:VCALENDAR
VERSION:2.0
PRODID:< http://www.open2c.de/ >
METHOD:PUBLISH
X-PUBLISHED-TTL:PT12H
BEGIN:VEVENT
CREATED:20250916T055531Z
LAST-MODIFIED:20250916T061307Z
GEO:0.000000,0.000000
ORGANIZER;CN="Gartenfreunde Landsham e. V.":MAILTO:Brigitte Freund
DTSTAMP:20260419T205054Z
DTSTART:20251017T173000Z
DTEND:20251017T190000Z
CATEGORIES:Vereine
SUMMARY;CHARSET=UTF-8:Herbstversammlung Gartenfreunde
DESCRIPTION;CHARSET=UTF-8:Organisator   Gartenfreunde Landsham e. V.
 Kontakt   Brigitte Freund
LOCATION;CHARSET=UTF-8:Poinger Einkehr
UID:ec090f91c03066e659dc681e5cc3c829@a265c234b019f8e4ef003bb57e41bb9d
END:VEVENT
END:VCALENDAR