BEGIN:VCALENDAR
VERSION:2.0
PRODID:< http://www.open2c.de/ >
METHOD:PUBLISH
X-PUBLISHED-TTL:PT12H
BEGIN:VEVENT
CREATED:20250916T054517Z
LAST-MODIFIED:20250926T104816Z
GEO:0.000000,0.000000
ORGANIZER;CN="Jugendraum Pliening e.V.":MAILTO:Anita Hackl
DTSTAMP:20260419T224003Z
DTSTART:20250926T150000Z
DTEND:20250926T210000Z
CATEGORIES:Jugend
SUMMARY;CHARSET=UTF-8:Wiesnparty Jugendraum
DESCRIPTION;CHARSET=UTF-8:ab 3. Klasse
 Organisator   Jugendraum Pliening e.V.
 Kontakt   Anita Hackl
LOCATION;CHARSET=UTF-8:Jugendraum
UID:758dc183353943e72bbe6f6e6ec00a14@a265c234b019f8e4ef003bb57e41bb9d
END:VEVENT
END:VCALENDAR