BEGIN:VCALENDAR
VERSION:2.0
PRODID:< http://www.open2c.de/ >
METHOD:PUBLISH
X-PUBLISHED-TTL:PT12H
BEGIN:VEVENT
CREATED:20250911T145658Z
LAST-MODIFIED:20250911T145832Z
GEO:0.000000,0.000000
ORGANIZER;CN="SG Ottersberg":MAILTO:Thomas Kiefer
DTSTAMP:20260419T205320Z
DTSTART:20251025T170000Z
DTEND:20251025T200000Z
CATEGORIES:Sport
SUMMARY;CHARSET=UTF-8:Jugendpokal ausschießen - Adi Rulofs Pokal
DESCRIPTION;CHARSET=UTF-8:Organisator   SG Ottersberg
 Kontakt   Thomas Kiefer
LOCATION;CHARSET=UTF-8:Vereinsheim
UID:6dfeffca853c612dbee9b9d3b64b6a5f@a265c234b019f8e4ef003bb57e41bb9d
END:VEVENT
END:VCALENDAR