BEGIN:VCALENDAR
VERSION:2.0
PRODID:< http://www.open2c.de/ >
METHOD:PUBLISH
X-PUBLISHED-TTL:PT12H
BEGIN:VEVENT
CREATED:20250911T145118Z
LAST-MODIFIED:20250911T145318Z
GEO:0.000000,0.000000
ORGANIZER;CN="SG Ottersberg":MAILTO:Thomas Kiefer
DTSTAMP:20260421T215051Z
DTSTART:20250927T170000Z
DTEND:20250927T200000Z
CATEGORIES:Feste und Feiern
SUMMARY;CHARSET=UTF-8:\\"O zapft is\\" SG Ottersberg
DESCRIPTION;CHARSET=UTF-8:Reservierung unter 08121-771537
 Organisator   SG Ottersberg
 Kontakt   Thomas Kiefer
LOCATION;CHARSET=UTF-8:Vereinsheim
UID:7bdc3c31198f19f4414e94c029ee2892@a265c234b019f8e4ef003bb57e41bb9d
END:VEVENT
END:VCALENDAR