BEGIN:VCALENDAR
VERSION:2.0
PRODID:< http://www.open2c.de/ >
METHOD:PUBLISH
X-PUBLISHED-TTL:PT12H
BEGIN:VEVENT
CREATED:20250905T095620Z
LAST-MODIFIED:20250905T095749Z
GEO:0.000000,0.000000
ORGANIZER;CN="SSV Landsham":MAILTO:Florian Gemsjäger
DTSTAMP:20260419T205217Z
DTSTART:20251010T220000Z
DTEND:20251010T220000Z
CATEGORIES:Sport
SUMMARY;CHARSET=UTF-8:Wiesn-Turnier SSV Landsham
DESCRIPTION;CHARSET=UTF-8:Organisator   SSV Landsham
 Kontakt   Florian Gemsjäger
LOCATION;CHARSET=UTF-8:
UID:c7571a1c38b8e3c1f8a3c3ce20f49efe@a265c234b019f8e4ef003bb57e41bb9d
END:VEVENT
END:VCALENDAR