BEGIN:VCALENDAR
VERSION:2.0
PRODID:< http://www.open2c.de/ >
METHOD:PUBLISH
X-PUBLISHED-TTL:PT12H
BEGIN:VEVENT
CREATED:20250819T081630Z
LAST-MODIFIED:20250819T082350Z
GEO:0.000000,0.000000
ORGANIZER;CN="Heimatverein Pliening":MAILTO:Kurt Strehlow
DTSTAMP:20260419T223533Z
DTSTART:20250928T090000Z
DTEND:20250928T120000Z
CATEGORIES:Ausstellungen
SUMMARY;CHARSET=UTF-8:Museumsraum Sonntags geöffnet
DESCRIPTION;CHARSET=UTF-8:Organisator   Heimatverein Pliening
 Kontakt   Kurt Strehlow
LOCATION;CHARSET=UTF-8:Markt Schwabener Str. 12\\, Gelting
UID:03b2bd5cae30f956b7479c464f14cb7b@a265c234b019f8e4ef003bb57e41bb9d
END:VEVENT
END:VCALENDAR