BEGIN:VCALENDAR
VERSION:2.0
PRODID:< http://www.open2c.de/ >
METHOD:PUBLISH
X-PUBLISHED-TTL:PT12H
BEGIN:VEVENT
CREATED:20250819T075854Z
LAST-MODIFIED:20250819T081549Z
GEO:0.000000,0.000000
ORGANIZER;CN="Heimatverein Pliening":MAILTO:Kurt Strehlow
DTSTAMP:20260421T215051Z
DTSTART:20250921T090000Z
DTEND:20250921T120000Z
CATEGORIES:Ausstellungen
SUMMARY;CHARSET=UTF-8:Museumsraum Sonntags geöffnet
DESCRIPTION;CHARSET=UTF-8:Organisator   Heimatverein Pliening
 Kontakt   Kurt Strehlow
LOCATION;CHARSET=UTF-8:Markt Schwabener Str. 12\\, Gelting
UID:a988341152f7783054dc2dd0e0b7e3c2@a265c234b019f8e4ef003bb57e41bb9d
END:VEVENT
END:VCALENDAR