BEGIN:VCALENDAR
VERSION:2.0
PRODID:< http://www.open2c.de/ >
METHOD:PUBLISH
X-PUBLISHED-TTL:PT12H
BEGIN:VEVENT
CREATED:20250819T074637Z
LAST-MODIFIED:20250819T074955Z
GEO:0.000000,0.000000
ORGANIZER;CN="Bündnis 90/ Die Grünen Ortsverband Pliening":MAILTO:Gabriele Heigl
DTSTAMP:20260419T223747Z
DTSTART:20250915T150000Z
DTEND:20250915T160000Z
CATEGORIES:Verschiedenes
SUMMARY;CHARSET=UTF-8:Grünes Telefon
DESCRIPTION;CHARSET=UTF-8:Organisator   Bündnis 90/ Die Grünen Ortsverband Pliening
 Kontakt   Gabriele Heigl
LOCATION;CHARSET=UTF-8:
UID:ca1975950c195951d9f5d4b501a723cb@a265c234b019f8e4ef003bb57e41bb9d
END:VEVENT
END:VCALENDAR