BEGIN:VCALENDAR
VERSION:2.0
PRODID:< http://www.open2c.de/ >
METHOD:PUBLISH
X-PUBLISHED-TTL:PT12H
BEGIN:VEVENT
CREATED:20250610T113034Z
LAST-MODIFIED:20250728T080128Z
GEO:0.000000,0.000000
ORGANIZER;CN="CSU-Ortsverband Pliening":MAILTO:Rene Buchmann
DTSTAMP:20260419T223512Z
DTSTART:20250927T110000Z
DTEND:20250927T160000Z
CATEGORIES:Ausflüge
SUMMARY;CHARSET=UTF-8:Radltour rund um Pliening
DESCRIPTION;CHARSET=UTF-8:mit Halt am Kieswerk Ebenhöh\\, Speichersee\\, Wohnwerk in der Natur\\, Linde Ottersberg mit vorheriger Anmeldung\\, für Verpflegung ist gesorgt.Abfahrt am Bürgerhaus
 Organisator   CSU-Ortsverband Pliening
 Kontakt   Rene Buchmann
LOCATION;CHARSET=UTF-8:
UID:16021c095d07b4d9c895c1bd023d2fe3@a265c234b019f8e4ef003bb57e41bb9d
END:VEVENT
END:VCALENDAR