BEGIN:VCALENDAR
VERSION:2.0
PRODID:< http://www.open2c.de/ >
METHOD:PUBLISH
X-PUBLISHED-TTL:PT12H
BEGIN:VEVENT
CREATED:20250321T092136Z
LAST-MODIFIED:20250321T092315Z
GEO:0.000000,0.000000
ORGANIZER;CN="Jugendraum Pliening":MAILTO:Anita Hackl
DTSTAMP:20260419T205059Z
DTSTART:20251025T140000Z
DTEND:20251025T160000Z
CATEGORIES:Vereine
SUMMARY;CHARSET=UTF-8:Halloween Party ab der 3. Klasse Jugendraum
DESCRIPTION;CHARSET=UTF-8:Organisator   Jugendraum Pliening
 Kontakt   Anita Hackl
LOCATION;CHARSET=UTF-8:Jugendraum
UID:eb50d69b0e9bfb4df6263fe269eb505d@a265c234b019f8e4ef003bb57e41bb9d
END:VEVENT
END:VCALENDAR