BEGIN:VCALENDAR
VERSION:2.0
PRODID:< http://www.open2c.de/ >
METHOD:PUBLISH
X-PUBLISHED-TTL:PT12H
BEGIN:VEVENT
CREATED:20250321T074151Z
LAST-MODIFIED:20250321T091553Z
GEO:0.000000,0.000000
ORGANIZER;CN="Jugendraum Pliening":MAILTO:Anita Hackl
DTSTAMP:20260420T145225Z
DTSTART:20250405T140000Z
DTEND:20250405T160000Z
CATEGORIES:Vereine
SUMMARY;CHARSET=UTF-8:Frühlingsparty ab der 3. Klasse Jugendraum
DESCRIPTION;CHARSET=UTF-8:Organisator   Jugendraum Pliening
 Kontakt   Anita Hackl
LOCATION;CHARSET=UTF-8:Jugendraum
UID:5a114dead19b03c37b4f824453ce1198@a265c234b019f8e4ef003bb57e41bb9d
END:VEVENT
END:VCALENDAR