BEGIN:VCALENDAR
VERSION:2.0
PRODID:< http://www.open2c.de/ >
METHOD:PUBLISH
X-PUBLISHED-TTL:PT12H
BEGIN:VEVENT
CREATED:20250319T095939Z
LAST-MODIFIED:20250319T100257Z
GEO:0.000000,0.000000
ORGANIZER;CN="SG Ottersberg":MAILTO:Thomas Kiefer
DTSTAMP:20260419T205320Z
DTSTART:20251012T130000Z
DTEND:20251012T160000Z
CATEGORIES:Vereine
SUMMARY;CHARSET=UTF-8:Federweißer
DESCRIPTION;CHARSET=UTF-8:Organisator   SG Ottersberg
 Kontakt   Thomas Kiefer
LOCATION;CHARSET=UTF-8:
UID:104dff46a06b617667f90235073c03a3@a265c234b019f8e4ef003bb57e41bb9d
END:VEVENT
END:VCALENDAR