BEGIN:VCALENDAR
VERSION:2.0
PRODID:< http://www.open2c.de/ >
METHOD:PUBLISH
X-PUBLISHED-TTL:PT12H
BEGIN:VEVENT
CREATED:20250319T093654Z
LAST-MODIFIED:20250319T093841Z
GEO:0.000000,0.000000
ORGANIZER;CN="Heimatverein Pliening":MAILTO:Herr Strehlow
DTSTAMP:20260420T053843Z
DTSTART:20250411T163000Z
DTEND:20250411T190000Z
CATEGORIES:Vereine
SUMMARY;CHARSET=UTF-8:Mitgliederversammlung Heimatverein
DESCRIPTION;CHARSET=UTF-8:Organisator   Heimatverein Pliening
 Kontakt   Herr Strehlow
LOCATION;CHARSET=UTF-8:Gasthof Stocker
UID:9f21c2cce36159f05500874f847938f0@a265c234b019f8e4ef003bb57e41bb9d
END:VEVENT
END:VCALENDAR