BEGIN:VCALENDAR
VERSION:2.0
PRODID:< http://www.open2c.de/ >
METHOD:PUBLISH
X-PUBLISHED-TTL:PT12H
BEGIN:VEVENT
CREATED:20250319T093411Z
LAST-MODIFIED:20250319T093639Z
GEO:0.000000,0.000000
ORGANIZER;CN="Pfarrei Finsing Gelting":MAILTO:H. Burghart
DTSTAMP:20260420T054129Z
DTSTART:20250407T220000Z
DTEND:20250407T220000Z
CATEGORIES:Kirche
SUMMARY;CHARSET=UTF-8:Firmung Finsing
DESCRIPTION;CHARSET=UTF-8:Organisator   Pfarrei Finsing Gelting
 Kontakt   H. Burghart
LOCATION;CHARSET=UTF-8:
UID:b24116aba00483ef0b92c47ae2963eea@a265c234b019f8e4ef003bb57e41bb9d
END:VEVENT
END:VCALENDAR