BEGIN:VCALENDAR
VERSION:2.0
PRODID:< http://www.open2c.de/ >
METHOD:PUBLISH
X-PUBLISHED-TTL:PT12H
BEGIN:VEVENT
CREATED:20250319T093004Z
LAST-MODIFIED:20250319T093353Z
GEO:0.000000,0.000000
ORGANIZER;CN="Maibaumverein Landsham":MAILTO:Markus Uffinger
DTSTAMP:20260420T053917Z
DTSTART:20250406T160000Z
DTEND:20250406T200000Z
CATEGORIES:Verschiedenes
SUMMARY;CHARSET=UTF-8:Maibaumstüberl Landsham - Jugenfeuerwehrwache
DESCRIPTION;CHARSET=UTF-8:Organisator   Maibaumverein Landsham
 Kontakt   Markus Uffinger
LOCATION;CHARSET=UTF-8:Maibaumstüberl Landsham
UID:a11d855dbae6e96aaf77f9f269ad4e61@a265c234b019f8e4ef003bb57e41bb9d
END:VEVENT
END:VCALENDAR