BEGIN:VCALENDAR
VERSION:2.0
PRODID:< http://www.open2c.de/ >
METHOD:PUBLISH
X-PUBLISHED-TTL:PT12H
BEGIN:VEVENT
CREATED:20250314T113257Z
LAST-MODIFIED:20250314T113409Z
GEO:0.000000,0.000000
ORGANIZER;CN="TC Pliening":MAILTO:Dirk Rehberg
DTSTAMP:20260420T013354Z
DTSTART:20250705T120000Z
DTEND:20250705T140000Z
CATEGORIES:Sport
SUMMARY;CHARSET=UTF-8:TC - Heimspiel Landesliga Herren 40 II TC Rimsting
DESCRIPTION;CHARSET=UTF-8:Organisator   TC Pliening
 Kontakt   Dirk Rehberg
LOCATION;CHARSET=UTF-8:
UID:c3dd7ac4df03f64aba6b29e96c9bb86d@a265c234b019f8e4ef003bb57e41bb9d
END:VEVENT
END:VCALENDAR