BEGIN:VCALENDAR
VERSION:2.0
PRODID:< http://www.open2c.de/ >
METHOD:PUBLISH
X-PUBLISHED-TTL:PT12H
BEGIN:VEVENT
CREATED:20250314T104129Z
LAST-MODIFIED:20250314T104229Z
GEO:0.000000,0.000000
ORGANIZER;CN="SG Ottersberg":MAILTO:Thomas Kiefer
DTSTAMP:20260419T223623Z
DTSTART:20250903T120000Z
DTEND:20250903T140000Z
CATEGORIES:Vereine
SUMMARY;CHARSET=UTF-8:Rentnerstammtisch
DESCRIPTION;CHARSET=UTF-8:Organisator   SG Ottersberg
 Kontakt   Thomas Kiefer
LOCATION;CHARSET=UTF-8:
UID:470667d7ec2cc19594896716d175718b@a265c234b019f8e4ef003bb57e41bb9d
END:VEVENT
END:VCALENDAR