BEGIN:VCALENDAR
VERSION:2.0
PRODID:< http://www.open2c.de/ >
METHOD:PUBLISH
X-PUBLISHED-TTL:PT12H
BEGIN:VEVENT
CREATED:20250314T103655Z
LAST-MODIFIED:20250314T103826Z
GEO:0.000000,0.000000
ORGANIZER;CN="SG Ottersberg":MAILTO:Thomas Kiefer
DTSTAMP:20260420T013237Z
DTSTART:20250720T090000Z
DTEND:20250720T160000Z
CATEGORIES:Vereine
SUMMARY;CHARSET=UTF-8:Schützengrillfest am Schützenheim mit Krieger- und Soldatenverein
DESCRIPTION;CHARSET=UTF-8:Organisator   SG Ottersberg
 Kontakt   Thomas Kiefer
LOCATION;CHARSET=UTF-8:am Schützenheim
UID:37164cbd7481744832669c32ee6f18fc@a265c234b019f8e4ef003bb57e41bb9d
END:VEVENT
END:VCALENDAR