BEGIN:VCALENDAR
VERSION:2.0
PRODID:< http://www.open2c.de/ >
METHOD:PUBLISH
X-PUBLISHED-TTL:PT12H
BEGIN:VEVENT
CREATED:20250313T154004Z
LAST-MODIFIED:20250313T154129Z
GEO:0.000000,0.000000
ORGANIZER;CN="Maibaumverein Landsham":MAILTO:Markus Uffinger
DTSTAMP:20260420T053843Z
DTSTART:20250415T220000Z
DTEND:20250415T220000Z
CATEGORIES:Vereine
SUMMARY;CHARSET=UTF-8:Maibaumstüberl - BV Landsham Goaß`n Mass Mittwoch
DESCRIPTION;CHARSET=UTF-8:Organisator   Maibaumverein Landsham
 Kontakt   Markus Uffinger
LOCATION;CHARSET=UTF-8:Maibaumstüberl Dorfplatz Landsham
UID:dcb8793d82223e5a48c0f71746943478@a265c234b019f8e4ef003bb57e41bb9d
END:VEVENT
END:VCALENDAR