BEGIN:VCALENDAR
VERSION:2.0
PRODID:< http://www.open2c.de/ >
METHOD:PUBLISH
X-PUBLISHED-TTL:PT12H
BEGIN:VEVENT
CREATED:20250313T153842Z
LAST-MODIFIED:20250313T153943Z
GEO:0.000000,0.000000
ORGANIZER;CN="Maibaumverein Landsham":MAILTO:Markus Uffinger
DTSTAMP:20260420T053827Z
DTSTART:20250413T220000Z
DTEND:20250413T220000Z
CATEGORIES:Vereine
SUMMARY;CHARSET=UTF-8:Maibaumstüberl - Kesselfleischessen
DESCRIPTION;CHARSET=UTF-8:Organisator   Maibaumverein Landsham
 Kontakt   Markus Uffinger
LOCATION;CHARSET=UTF-8:Maibaumstüberl Dorfplatz Landsham
UID:2a1ff0472a1ddcc218a7847b86b029b8@a265c234b019f8e4ef003bb57e41bb9d
END:VEVENT
END:VCALENDAR