BEGIN:VCALENDAR
VERSION:2.0
PRODID:< http://www.open2c.de/ >
METHOD:PUBLISH
X-PUBLISHED-TTL:PT12H
BEGIN:VEVENT
CREATED:20250313T152526Z
LAST-MODIFIED:20250313T152648Z
GEO:0.000000,0.000000
ORGANIZER;CN="Maibaumverein Landsham":MAILTO:Markus Uffinger
DTSTAMP:20260420T053954Z
DTSTART:20250403T220000Z
DTEND:20250403T220000Z
CATEGORIES:Vereine
SUMMARY;CHARSET=UTF-8:Maibaumstüberl - BV Landsham 80/90er Wach
DESCRIPTION;CHARSET=UTF-8:Organisator   Maibaumverein Landsham
 Kontakt   Markus Uffinger
LOCATION;CHARSET=UTF-8:Maibaumstüberl Dorfplatz Landsham
UID:38e5bf27353587341b5e63ffa00386e8@a265c234b019f8e4ef003bb57e41bb9d
END:VEVENT
END:VCALENDAR