BEGIN:VCALENDAR
VERSION:2.0
PRODID:< http://www.open2c.de/ >
METHOD:PUBLISH
X-PUBLISHED-TTL:PT12H
BEGIN:VEVENT
CREATED:20250313T152102Z
LAST-MODIFIED:20250313T152227Z
GEO:0.000000,0.000000
ORGANIZER;CN="Maibaumverein Landsham":MAILTO:Markus Uffinger
DTSTAMP:20260420T063100Z
DTSTART:20250330T220000Z
DTEND:20250330T220000Z
CATEGORIES:Vereine
SUMMARY;CHARSET=UTF-8:Maibaumstüberl - Spare Ribs Essen
DESCRIPTION;CHARSET=UTF-8:Organisator   Maibaumverein Landsham
 Kontakt   Markus Uffinger
LOCATION;CHARSET=UTF-8:Maibaumstüberl Dorfplatz Landsham
UID:3dd29e8bbb28d9d646708ba80afa548d@a265c234b019f8e4ef003bb57e41bb9d
END:VEVENT
END:VCALENDAR