BEGIN:VCALENDAR
VERSION:2.0
PRODID:< http://www.open2c.de/ >
METHOD:PUBLISH
X-PUBLISHED-TTL:PT12H
BEGIN:VEVENT
CREATED:20250313T143323Z
LAST-MODIFIED:20250313T143439Z
GEO:0.000000,0.000000
ORGANIZER;CN="SG Ottersberg":MAILTO:Thomas Kiefer
DTSTAMP:20260420T054121Z
DTSTART:20250412T170000Z
DTEND:20250412T200000Z
CATEGORIES:Sport
SUMMARY;CHARSET=UTF-8:Zimmerstutzen Schießen
DESCRIPTION;CHARSET=UTF-8:Organisator   SG Ottersberg
 Kontakt   Thomas Kiefer
LOCATION;CHARSET=UTF-8:
UID:1890a271cbea6d8e52b1639c07ede5c5@a265c234b019f8e4ef003bb57e41bb9d
END:VEVENT
END:VCALENDAR