BEGIN:VCALENDAR
VERSION:2.0
PRODID:< http://www.open2c.de/ >
METHOD:PUBLISH
X-PUBLISHED-TTL:PT12H
BEGIN:VEVENT
CREATED:20250313T134432Z
LAST-MODIFIED:20250319T100610Z
GEO:0.000000,0.000000
ORGANIZER;CN="Musikkapelle Gelting":MAILTO:H. Rittler
DTSTAMP:20260419T205212Z
DTSTART:20251026T160000Z
DTEND:20251026T180000Z
CATEGORIES:Konzerte
SUMMARY;CHARSET=UTF-8:Kirchenkonzert
DESCRIPTION;CHARSET=UTF-8:Organisator   Musikkapelle Gelting
 Kontakt   H. Rittler
LOCATION;CHARSET=UTF-8:in Gelting
UID:ec31b82d0b7bd0f3ee5c05691816c4ea@a265c234b019f8e4ef003bb57e41bb9d
END:VEVENT
END:VCALENDAR