BEGIN:VCALENDAR
VERSION:2.0
PRODID:< http://www.open2c.de/ >
METHOD:PUBLISH
X-PUBLISHED-TTL:PT12H
BEGIN:VEVENT
CREATED:20250313T134226Z
LAST-MODIFIED:20250926T104907Z
GEO:0.000000,0.000000
ORGANIZER;CN="Musikkapelle Gelting":MAILTO:H. Rittler
DTSTAMP:20260419T205150Z
DTSTART:20251024T130000Z
DTEND:20251024T190000Z
CATEGORIES:Konzerte
SUMMARY;CHARSET=UTF-8:Aufbau 15\\":\\"00 und Generalprobe 19-21 Uhr Kirchenkonzert St. Sebastian\\, Ebersberg
DESCRIPTION;CHARSET=UTF-8:Organisator   Musikkapelle Gelting
 Kontakt   H. Rittler
LOCATION;CHARSET=UTF-8:
UID:d6912b1a8032ce89ad48880cb3423053@a265c234b019f8e4ef003bb57e41bb9d
END:VEVENT
END:VCALENDAR