BEGIN:VCALENDAR
VERSION:2.0
PRODID:< http://www.open2c.de/ >
METHOD:PUBLISH
X-PUBLISHED-TTL:PT12H
BEGIN:VEVENT
CREATED:20250313T133759Z
LAST-MODIFIED:20250313T133926Z
GEO:0.000000,0.000000
ORGANIZER;CN="Musikkapelle Gelting":MAILTO:H. Rittler
DTSTAMP:20260420T013247Z
DTSTART:20250719T110000Z
DTEND:20250719T150000Z
CATEGORIES:Verschiedenes
SUMMARY;CHARSET=UTF-8:MKG - 10 Jahre Senioreneinrichtung in Anzing
DESCRIPTION;CHARSET=UTF-8:Organisator   Musikkapelle Gelting
 Kontakt   H. Rittler
LOCATION;CHARSET=UTF-8:
UID:18189508e3b6a77735d7a8d6ed8229a6@a265c234b019f8e4ef003bb57e41bb9d
END:VEVENT
END:VCALENDAR