BEGIN:VCALENDAR
VERSION:2.0
PRODID:< http://www.open2c.de/ >
METHOD:PUBLISH
X-PUBLISHED-TTL:PT12H
BEGIN:VEVENT
CREATED:20250313T130650Z
LAST-MODIFIED:20250313T130827Z
GEO:0.000000,0.000000
ORGANIZER;CN="Musikkapelle Gelting":MAILTO:H. Rittler
DTSTAMP:20260420T063140Z
DTSTART:20250320T170000Z
DTEND:20250320T190000Z
CATEGORIES:Konzerte
SUMMARY;CHARSET=UTF-8:Schülerkonzert
DESCRIPTION;CHARSET=UTF-8:Organisator   Musikkapelle Gelting
 Kontakt   H. Rittler
LOCATION;CHARSET=UTF-8:Trachtenstüberl
UID:c2b8d588838c0a764c4ade3c738612a7@a265c234b019f8e4ef003bb57e41bb9d
END:VEVENT
END:VCALENDAR