BEGIN:VCALENDAR
VERSION:2.0
PRODID:< http://www.open2c.de/ >
METHOD:PUBLISH
X-PUBLISHED-TTL:PT12H
BEGIN:VEVENT
CREATED:20250311T091643Z
LAST-MODIFIED:20250311T091828Z
GEO:0.000000,0.000000
ORGANIZER;CN="Elterninitiative Pliening":MAILTO:Sonja Jeck
DTSTAMP:20260421T214737Z
DTSTART:20250914T120000Z
DTEND:20250914T140000Z
CATEGORIES:Märkte
SUMMARY;CHARSET=UTF-8:Herbstbasar EIP
DESCRIPTION;CHARSET=UTF-8:Organisator   Elterninitiative Pliening
 Kontakt   Sonja Jeck
LOCATION;CHARSET=UTF-8:
UID:501c1772ed62d19f710819e1b9fde962@a265c234b019f8e4ef003bb57e41bb9d
END:VEVENT
END:VCALENDAR