BEGIN:VCALENDAR
VERSION:2.0
PRODID:< http://www.open2c.de/ >
METHOD:PUBLISH
X-PUBLISHED-TTL:PT12H
BEGIN:VEVENT
CREATED:20250311T090214Z
LAST-MODIFIED:20250926T105655Z
GEO:0.000000,0.000000
ORGANIZER;CN="Elterninitiative Pliening":MAILTO:Sonja Jeck
DTSTAMP:20260422T003123Z
DTSTART:20251128T140000Z
DTEND:20251128T170000Z
CATEGORIES:Märkte
SUMMARY;CHARSET=UTF-8:1.Wintermarkt EIP
DESCRIPTION;CHARSET=UTF-8:Organisator   Elterninitiative Pliening
 Kontakt   Sonja Jeck
LOCATION;CHARSET=UTF-8:in der EIP
UID:2c050def3f32621ef733f2a3f347999b@a265c234b019f8e4ef003bb57e41bb9d
END:VEVENT
END:VCALENDAR