BEGIN:VCALENDAR
VERSION:2.0
PRODID:< http://www.open2c.de/ >
METHOD:PUBLISH
X-PUBLISHED-TTL:PT12H
BEGIN:VEVENT
CREATED:20250311T084901Z
LAST-MODIFIED:20250319T095003Z
GEO:0.000000,0.000000
ORGANIZER;CN="DG Ottersberg":MAILTO:Fr. Lehr
DTSTAMP:20260420T013334Z
DTSTART:20250705T140000Z
DTEND:20250705T210000Z
CATEGORIES:Feste und Feiern
SUMMARY;CHARSET=UTF-8:Lindenfest
DESCRIPTION;CHARSET=UTF-8:Organisator   DG Ottersberg
 Kontakt   Fr. Lehr
LOCATION;CHARSET=UTF-8:Ottersberg
UID:3558fcb0159138f59731a3d2fa01d62c@a265c234b019f8e4ef003bb57e41bb9d
END:VEVENT
END:VCALENDAR