BEGIN:VCALENDAR
VERSION:2.0
PRODID:< http://www.open2c.de/ >
METHOD:PUBLISH
X-PUBLISHED-TTL:PT12H
BEGIN:VEVENT
CREATED:20250217T084710Z
LAST-MODIFIED:20250217T084837Z
GEO:0.000000,0.000000
ORGANIZER;CN="FFW Pliening":MAILTO:Mathias Schleger
DTSTAMP:20260422T001643Z
DTSTART:20251128T230000Z
DTEND:20251128T230000Z
CATEGORIES:Feste und Feiern
SUMMARY;CHARSET=UTF-8:Weihnachtsfeier FFW Pliening
DESCRIPTION;CHARSET=UTF-8:Organisator   FFW Pliening
 Kontakt   Mathias Schleger
LOCATION;CHARSET=UTF-8:
UID:27a8c960bb690b385c7e2f1cf33e1bc8@a265c234b019f8e4ef003bb57e41bb9d
END:VEVENT
END:VCALENDAR