BEGIN:VCALENDAR
VERSION:2.0
PRODID:< http://www.open2c.de/ >
METHOD:PUBLISH
X-PUBLISHED-TTL:PT12H
BEGIN:VEVENT
CREATED:20250203T092430Z
LAST-MODIFIED:20250203T092612Z
GEO:0.000000,0.000000
ORGANIZER;CN="Tennisclub Pliening":MAILTO:Andrea Ehlers
DTSTAMP:20260420T063252Z
DTSTART:20250327T230000Z
DTEND:20250327T230000Z
CATEGORIES:Vereine
SUMMARY;CHARSET=UTF-8:Mitgliederversammlung TCP
DESCRIPTION;CHARSET=UTF-8:Organisator   Tennisclub Pliening
 Kontakt   Andrea Ehlers
LOCATION;CHARSET=UTF-8:Tennisheim
UID:3e9fffa169af447a17e89d346a7151ab@a265c234b019f8e4ef003bb57e41bb9d
END:VEVENT
END:VCALENDAR