BEGIN:VCALENDAR
VERSION:2.0
PRODID:< http://www.open2c.de/ >
METHOD:PUBLISH
X-PUBLISHED-TTL:PT12H
BEGIN:VEVENT
CREATED:20250120T095626Z
LAST-MODIFIED:20250120T095837Z
GEO:0.000000,0.000000
ORGANIZER;CN="CSU Ortsverband Pliening":MAILTO:Rene Buchmann
DTSTAMP:20260419T133443Z
DTSTART:20250314T180000Z
DTEND:20250314T210000Z
CATEGORIES:Vereine
SUMMARY;CHARSET=UTF-8:CSU-Preisschafkopfen
DESCRIPTION;CHARSET=UTF-8:Einlass ab 18 Uhr
 Organisator   CSU Ortsverband Pliening
 Kontakt   Rene Buchmann
LOCATION;CHARSET=UTF-8:Bürgerstüberl
UID:b8fbfdda163f4e167ad7735ea96c9d28@a265c234b019f8e4ef003bb57e41bb9d
END:VEVENT
END:VCALENDAR