BEGIN:VCALENDAR
VERSION:2.0
PRODID:< http://www.open2c.de/ >
METHOD:PUBLISH
X-PUBLISHED-TTL:PT12H
BEGIN:VEVENT
CREATED:20250114T095822Z
LAST-MODIFIED:20250114T095952Z
GEO:0.000000,0.000000
ORGANIZER;CN="FFW Gelting":MAILTO:Andi Obermaier
DTSTAMP:20260420T063226Z
DTSTART:20250308T180000Z
DTEND:20250308T200000Z
CATEGORIES:Feuerwehr
SUMMARY;CHARSET=UTF-8:Jahreshauptversammlung FFW Gelting
DESCRIPTION;CHARSET=UTF-8:Organisator   FFW Gelting
 Kontakt   Andi Obermaier
LOCATION;CHARSET=UTF-8:
UID:2dc112032d2db123286d931bd3e99c89@a265c234b019f8e4ef003bb57e41bb9d
END:VEVENT
END:VCALENDAR