BEGIN:VCALENDAR
VERSION:2.0
PRODID:< http://www.open2c.de/ >
METHOD:PUBLISH
X-PUBLISHED-TTL:PT12H
BEGIN:VEVENT
CREATED:20241211T110952Z
LAST-MODIFIED:20241211T111109Z
GEO:0.000000,0.000000
ORGANIZER;CN="FFW Landsham":MAILTO:H. Hornburger
DTSTAMP:20260419T205059Z
DTSTART:20251031T180000Z
DTEND:20251031T200000Z
CATEGORIES:Vereine
SUMMARY;CHARSET=UTF-8:Wattturnier FFW Landsham
DESCRIPTION;CHARSET=UTF-8:Organisator   FFW Landsham
 Kontakt   H. Hornburger
LOCATION;CHARSET=UTF-8:Feuerwehrhaus Landsham
UID:90827f6f6f360aefde20cdcf0bb4bfcb@a265c234b019f8e4ef003bb57e41bb9d
END:VEVENT
END:VCALENDAR