BEGIN:VCALENDAR
VERSION:2.0
PRODID:< http://www.open2c.de/ >
METHOD:PUBLISH
X-PUBLISHED-TTL:PT12H
BEGIN:VEVENT
CREATED:20241211T110759Z
LAST-MODIFIED:20241211T110935Z
GEO:0.000000,0.000000
ORGANIZER;CN="FFW Landsham":MAILTO:H. Hornburger
DTSTAMP:20260420T013334Z
DTSTART:20250726T120000Z
DTEND:20250726T160000Z
CATEGORIES:Feste und Feiern
SUMMARY;CHARSET=UTF-8:Feuerwehrfest FFW Landsham
DESCRIPTION;CHARSET=UTF-8:Organisator   FFW Landsham
 Kontakt   H. Hornburger
LOCATION;CHARSET=UTF-8:Dorfplatz Landsham
UID:92fc23849372ac5cf3acff83883629bc@a265c234b019f8e4ef003bb57e41bb9d
END:VEVENT
END:VCALENDAR