BEGIN:VCALENDAR
VERSION:2.0
PRODID:< http://www.open2c.de/ >
METHOD:PUBLISH
X-PUBLISHED-TTL:PT12H
BEGIN:VEVENT
CREATED:20240919T072915Z
LAST-MODIFIED:20250313T152044Z
GEO:0.000000,0.000000
ORGANIZER;CN="Maibaumverein Landsham e. V.":MAILTO:Nikolaus Hornburger
DTSTAMP:20260420T063106Z
DTSTART:20250328T230000Z
DTEND:20250328T230000Z
CATEGORIES:Vereine
SUMMARY;CHARSET=UTF-8:Maibaumeinholen Landsham inkl. Spenderwach
DESCRIPTION;CHARSET=UTF-8:Organisator   Maibaumverein Landsham e. V.
 Kontakt   Nikolaus Hornburger
LOCATION;CHARSET=UTF-8:Maibaumstüberl Dorfplatz Landsham
UID:057f3e1f169731b9cfccfdc06e8fe7c6@a265c234b019f8e4ef003bb57e41bb9d
END:VEVENT
END:VCALENDAR