BEGIN:VCALENDAR
VERSION:2.0
PRODID:< http://www.open2c.de/ >
METHOD:PUBLISH
X-PUBLISHED-TTL:PT12H
BEGIN:VEVENT
CREATED:20240919T072702Z
LAST-MODIFIED:20240919T072900Z
GEO:0.000000,0.000000
ORGANIZER;CN="Gemeinde Pliening":MAILTO:Herr Holzner
DTSTAMP:20260419T133443Z
DTSTART:20250317T183000Z
DTEND:20250317T200000Z
CATEGORIES:Sitzungen
SUMMARY;CHARSET=UTF-8:Frühjahrs-Vereinskartell mit Neuwahlen
DESCRIPTION;CHARSET=UTF-8:Organisator   Gemeinde Pliening
 Kontakt   Herr Holzner
LOCATION;CHARSET=UTF-8:Bürgerstüberl
UID:d4fe107fb4bfe5a8b4588f80c48c988d@a265c234b019f8e4ef003bb57e41bb9d
END:VEVENT
END:VCALENDAR