BEGIN:VCALENDAR
VERSION:2.0
PRODID:< http://www.open2c.de/ >
METHOD:PUBLISH
X-PUBLISHED-TTL:PT12H
BEGIN:VEVENT
CREATED:20240919T072515Z
LAST-MODIFIED:20240919T072627Z
GEO:0.000000,0.000000
ORGANIZER;CN="BRK":MAILTO:Fr. Reichert
DTSTAMP:20260419T133450Z
DTSTART:20250307T150000Z
DTEND:20250307T190000Z
CATEGORIES:Verschiedenes
SUMMARY;CHARSET=UTF-8:Blutspenden
DESCRIPTION;CHARSET=UTF-8:Organisator   BRK
 Kontakt   Fr. Reichert
LOCATION;CHARSET=UTF-8:Bürgersaal
UID:4ca8a642280c77fb3fc61360dd2f6dda@a265c234b019f8e4ef003bb57e41bb9d
END:VEVENT
END:VCALENDAR