BEGIN:VCALENDAR
VERSION:2.0
PRODID:< http://www.open2c.de/ >
METHOD:PUBLISH
X-PUBLISHED-TTL:PT12H
BEGIN:VEVENT
CREATED:20240919T072144Z
LAST-MODIFIED:20250120T110047Z
GEO:0.000000,0.000000
ORGANIZER;CN="Gemeinde Pliening":MAILTO:Frau Schönhöfer
DTSTAMP:20260419T151401Z
DTSTART:20250209T100000Z
DTEND:20250209T130000Z
CATEGORIES:Information
SUMMARY;CHARSET=UTF-8:Empfang für Junge Familien
DESCRIPTION;CHARSET=UTF-8:Organisator   Gemeinde Pliening
 Kontakt   Frau Schönhöfer
LOCATION;CHARSET=UTF-8:Bürgerstüberl und Foyer
UID:be0663037686e8a7af1d01773c815b40@a265c234b019f8e4ef003bb57e41bb9d
END:VEVENT
END:VCALENDAR