BEGIN:VCALENDAR
VERSION:2.0
PRODID:< http://www.open2c.de/ >
METHOD:PUBLISH
X-PUBLISHED-TTL:PT12H
BEGIN:VEVENT
CREATED:20240919T071634Z
LAST-MODIFIED:20240919T071810Z
GEO:0.000000,0.000000
ORGANIZER;CN="Gemeinde Pliening":MAILTO:Frau Schönhöfer
DTSTAMP:20260419T133525Z
DTSTART:20250119T101500Z
DTEND:20250119T140000Z
CATEGORIES:Feste und Feiern
SUMMARY;CHARSET=UTF-8:Neujahrsempfang 2025
DESCRIPTION;CHARSET=UTF-8:Organisator   Gemeinde Pliening
 Kontakt   Frau Schönhöfer
LOCATION;CHARSET=UTF-8:Bürgersaal
UID:a77fbe7ba22fa339ebef743bd4bbf4ad@a265c234b019f8e4ef003bb57e41bb9d
END:VEVENT
END:VCALENDAR