BEGIN:VCALENDAR
VERSION:2.0
PRODID:< http://www.open2c.de/ >
METHOD:PUBLISH
X-PUBLISHED-TTL:PT12H
BEGIN:VEVENT
CREATED:20240919T070901Z
LAST-MODIFIED:20240919T071446Z
GEO:0.000000,0.000000
ORGANIZER;CN="Musikkapelle Gelting":MAILTO:H. Rittler
DTSTAMP:20260419T171646Z
DTSTART:20241226T090000Z
DTEND:20241226T110000Z
CATEGORIES:Verschiedenes
SUMMARY;CHARSET=UTF-8:Festgottesdienst mit MKG
DESCRIPTION;CHARSET=UTF-8:Organisator   Musikkapelle Gelting
 Kontakt   H. Rittler
LOCATION;CHARSET=UTF-8:
UID:00a30b77aa87a760d03a2b635fa3dcf6@a265c234b019f8e4ef003bb57e41bb9d
END:VEVENT
END:VCALENDAR