BEGIN:VCALENDAR
VERSION:2.0
PRODID:< http://www.open2c.de/ >
METHOD:PUBLISH
X-PUBLISHED-TTL:PT12H
BEGIN:VEVENT
CREATED:20240916T081558Z
LAST-MODIFIED:20240916T081713Z
GEO:0.000000,0.000000
ORGANIZER;CN="SG Ottersberg":MAILTO:Thomas Kiefer
DTSTAMP:20260420T065156Z
DTSTART:20250305T130000Z
DTEND:20250305T150000Z
CATEGORIES:Senioren
SUMMARY;CHARSET=UTF-8:Rentnerstammtisch
DESCRIPTION;CHARSET=UTF-8:Organisator   SG Ottersberg
 Kontakt   Thomas Kiefer
LOCATION;CHARSET=UTF-8:
UID:47a1ea7f8bb0492cd08fc002575becbc@a265c234b019f8e4ef003bb57e41bb9d
END:VEVENT
END:VCALENDAR