BEGIN:VCALENDAR
VERSION:2.0
PRODID:< http://www.open2c.de/ >
METHOD:PUBLISH
X-PUBLISHED-TTL:PT12H
BEGIN:VEVENT
CREATED:20240916T070020Z
LAST-MODIFIED:20240919T072655Z
GEO:0.000000,0.000000
ORGANIZER;CN="Musikkapelle Gelting":MAILTO:H. Rittler
DTSTAMP:20260420T063106Z
DTSTART:20250316T090000Z
DTEND:20250316T130000Z
CATEGORIES:Verschiedenes
SUMMARY;CHARSET=UTF-8:Gedenkgottesdienst für verstorbene Mitglieder anschließend JHV der MKG
DESCRIPTION;CHARSET=UTF-8:Organisator   Musikkapelle Gelting
 Kontakt   H. Rittler
LOCATION;CHARSET=UTF-8:
UID:267ead26336c775df64abf526cb5b566@a265c234b019f8e4ef003bb57e41bb9d
END:VEVENT
END:VCALENDAR