BEGIN:VCALENDAR
VERSION:2.0
PRODID:< http://www.open2c.de/ >
METHOD:PUBLISH
X-PUBLISHED-TTL:PT12H
BEGIN:VEVENT
CREATED:20240912T131251Z
LAST-MODIFIED:20250120T101001Z
GEO:0.000000,0.000000
ORGANIZER;CN="Gemeinde Pliening":MAILTO:Angelika Diefenthaler
DTSTAMP:20260419T151610Z
DTSTART:20250207T130000Z
DTEND:20250207T160000Z
CATEGORIES:Senioren
SUMMARY;CHARSET=UTF-8:Seniorennachmittag
DESCRIPTION;CHARSET=UTF-8:Organisator   Gemeinde Pliening
 Kontakt   Angelika Diefenthaler
LOCATION;CHARSET=UTF-8:Bürgerstüberl
UID:cf2db25ac7df0552158f276edc7dfcd2@a265c234b019f8e4ef003bb57e41bb9d
END:VEVENT
END:VCALENDAR