BEGIN:VCALENDAR
VERSION:2.0
PRODID:< http://www.open2c.de/ >
METHOD:PUBLISH
X-PUBLISHED-TTL:PT12H
BEGIN:VEVENT
CREATED:20230913T130554Z
LAST-MODIFIED:20231005T153330Z
GEO:0.000000,0.000000
ORGANIZER;CN="CSU Ortsverband Pliening":MAILTO:Herr Rene Buchmann
DTSTAMP:20260422T141955Z
DTSTART:20231024T170000Z
DTEND:20231024T190000Z
CATEGORIES:Vorträge
SUMMARY;CHARSET=UTF-8:CSU hört zu - Herausforderungen der Kinder- und Jugendarbeit in der Gemeinde
DESCRIPTION;CHARSET=UTF-8:Organisator   CSU Ortsverband Pliening
 Kontakt   Herr Rene Buchmann
LOCATION;CHARSET=UTF-8:Bürgerstüberl
UID:014391fcaf605507b7054b091f99810a@a265c234b019f8e4ef003bb57e41bb9d
END:VEVENT
END:VCALENDAR