BEGIN:VCALENDAR
VERSION:2.0
PRODID:< http://www.open2c.de/ >
METHOD:PUBLISH
X-PUBLISHED-TTL:PT12H
BEGIN:VEVENT
CREATED:20230306T091533Z
LAST-MODIFIED:20230320T090445Z
GEO:0.000000,0.000000
ORGANIZER;CN="FFW Landsham":MAILTO:Nikolaus Hornburger
DTSTAMP:20260421T082836Z
DTSTART:20230804T220000Z
DTEND:20230804T220000Z
CATEGORIES:Feuerwehr
SUMMARY;CHARSET=UTF-8:Sommerfest FFW Landsham
DESCRIPTION;CHARSET=UTF-8:Organisator   FFW Landsham
 Kontakt   Nikolaus Hornburger
LOCATION;CHARSET=UTF-8:
UID:d999bcd3d06fb86fb33e97091722c833@a265c234b019f8e4ef003bb57e41bb9d
END:VEVENT
BEGIN:VEVENT
CREATED:20230626T081641Z
LAST-MODIFIED:20230626T082531Z
GEO:0.000000,0.000000
ORGANIZER;CN="FFW Gelting":MAILTO:Andreas Obermaier
DTSTAMP:20260421T082836Z
DTSTART:20230812T150000Z
DTEND:20230812T210000Z
CATEGORIES:Feste und Feiern
SUMMARY;CHARSET=UTF-8:Gartenfest der FFW Gelting
DESCRIPTION;CHARSET=UTF-8:Veranstaltung findet nur bei gutem Wetter statt !
 Organisator   FFW Gelting
 Kontakt   Andreas Obermaier
LOCATION;CHARSET=UTF-8:Wiese zwischen Ulrich-Pucher-Str. und St. Quirin-Str. in Gelting
UID:e119be9429e309a8703cb2980d0be288@a265c234b019f8e4ef003bb57e41bb9d
END:VEVENT
BEGIN:VEVENT
CREATED:20230607T074647Z
LAST-MODIFIED:20230607T074841Z
GEO:0.000000,0.000000
ORGANIZER;CN="Kath. Kirchenstiftung Pliening":MAILTO:Pfarrer Norbert Joschko
DTSTAMP:20260421T082836Z
DTSTART:20230815T090000Z
DTEND:20230815T160000Z
CATEGORIES:Kirche
SUMMARY;CHARSET=UTF-8:Pfarrfest
DESCRIPTION;CHARSET=UTF-8:Organisator   Kath. Kirchenstiftung Pliening
 Kontakt   Pfarrer Norbert Joschko
LOCATION;CHARSET=UTF-8:Bürgerstüberl
UID:bb8dd120c827b013962ddbe59badb6da@a265c234b019f8e4ef003bb57e41bb9d
END:VEVENT
BEGIN:VEVENT
CREATED:20230306T102726Z
LAST-MODIFIED:20230328T130934Z
GEO:0.000000,0.000000
ORGANIZER;CN="Blutspendedienst BRK":MAILTO:Frau Reichert
DTSTAMP:20260421T082836Z
DTSTART:20230831T130000Z
DTEND:20230831T180000Z
CATEGORIES:Verschiedenes
SUMMARY;CHARSET=UTF-8:Blutspenden
DESCRIPTION;CHARSET=UTF-8:Organisator   Blutspendedienst BRK
 Kontakt   Frau Reichert
LOCATION;CHARSET=UTF-8:Bürgerstüberl+Bürgersaal
UID:78b08a37a31e3d046bb2151d45d43efa@a265c234b019f8e4ef003bb57e41bb9d
END:VEVENT
END:VCALENDAR