BEGIN:VCALENDAR
VERSION:2.0
PRODID:< http://www.open2c.de/ >
METHOD:PUBLISH
X-PUBLISHED-TTL:PT12H
BEGIN:VEVENT
CREATED:20230109T093633Z
LAST-MODIFIED:20230117T075547Z
GEO:0.000000,0.000000
ORGANIZER;CN="CSU-Ortsgruppe Pliening":MAILTO:Rene Buchmann
DTSTAMP:20260419T131342Z
DTSTART:20230206T183000Z
DTEND:20230206T210000Z
CATEGORIES:Verschiedenes
SUMMARY;CHARSET=UTF-8:CSU-Ortshauptversammlung
DESCRIPTION;CHARSET=UTF-8:Organisator   CSU-Ortsgruppe Pliening
 Kontakt   Rene Buchmann
LOCATION;CHARSET=UTF-8:Bürgerstüberl
UID:c45475630e84860c71e74df33891b109@a265c234b019f8e4ef003bb57e41bb9d
END:VEVENT
END:VCALENDAR